BEGIN:VCALENDAR
VERSION:2.0
PRODID:icalendar-ruby
CALSCALE:GREGORIAN
METHOD:PUBLISH
BEGIN:VEVENT
DTSTAMP:20260420T054457Z
UID:121-2386871@ziondavenport.org
DTSTART:20260922T223000Z
DTEND:20260922T230000Z
CLASS:PUBLIC
CREATED:20260419T224030
DESCRIPTION:
LAST-MODIFIED:20260419T224030
LOCATION:Zion Fellowship Hall
SUMMARY:Free Meal
URL;VALUE=URI:https://ziondavenport.org/events/free-meal--121/2026-09-22
ATTACH;FILENAME=PXL_20250625_223105939.MP-EDIT.jpg;FMTTYPE=image/jpeg:https
 ://dq5pwpg1q8ru0.cloudfront.net/2026/01/14/19/21/12/8456c10c-b9d1-4744-8ef
 5-4ce38785391f/PXL_20250625_223105939.MP-EDIT.jpg
END:VEVENT
END:VCALENDAR
